BEGIN:VCALENDAR
VERSION:2.0
PRODID:-//wp-events-plugin.com//7.2.3.1//EN
TZID:America/New_York
X-WR-TIMEZONE:America/New_York
BEGIN:VEVENT
UID:51@bandofparents.org
DTSTART:20260128T180000Z
DTEND:20260128T200000Z
DTSTAMP:20260107T153638Z
URL:https://www.bandofparents.org/events/annual-meeting-with-mskcc-3/
SUMMARY:Annual Meeting with MSKCC
DESCRIPTION:You’re Invited!\nWe are delighted to invite you to the Band o
 f Parents Annual Meeting with the Memorial Sloan Kettering Cancer Center
  (MSKCC) Neuroblastoma Team.\n\nThis special gathering offers a rare oppor
 tunity to:\n\n 	Hear directly from leading experts about groundbreaking re
 search and upcoming clinical trials\n 	Gain insights into the future of ne
 uroblastoma treatment\n 	Ask general questions to the physicians at the fo
 refront of this fight\n\nThe session will be led by Dr. Nai-Kong Cheung\,
  Dr. Shakeel Modak\, and Dr. Brian Kushner.\n\nHope and Light Awards\nBefo
 re the meeting\, we will proudly host our Annual Hope and Light Awards—h
 onoring families\, individuals\, and extraordinary donors who have champio
 ned pediatric cancer awareness and supported life-saving efforts over the 
 past year.\n\nEvent Details\n\n 	Date: Wednesday\, January 28\, 2026\n 	T
 ime: 6:00 PM – 8:00 PM ET\n 	Location:\n\n\n 	\n\n 	In-person: Confere
 nce Room M-107\, MSKCC\, 1275 York Avenue\, New York\, NY 10065\n 	Virtual
 : A live-stream link will be shared upon registration\n\n\n\nRSVP by Janu
 ary 15\, 2026 to secure your spot.\n\nREGISTER HERE\n\nAttendance is limi
 ted to Band of Parents Members.\nInterested in joining? Please email kim
 @bandofparents.org.\n\nWe hope you’ll be part of this inspiring evening
 —celebrating progress\, recognizing contributions\, and learning what’
 s ahead in the fight against neuroblastoma.
ATTACH;FMTTYPE=image/jpeg:https://www.bandofparents.org/wp-content/uploads
 /2025/11/MSKCC-Annual-Mtg-2026.png
END:VEVENT
END:VCALENDAR